BEGIN:VCALENDAR
VERSION:2.0
PRODID:-//Tauchclub Lage - ECPv6.15.20//NONSGML v1.0//EN
CALSCALE:GREGORIAN
METHOD:PUBLISH
X-ORIGINAL-URL:https://tauchclub-lage.de
X-WR-CALDESC:Veranstaltungen für Tauchclub Lage
REFRESH-INTERVAL;VALUE=DURATION:PT1H
X-Robots-Tag:noindex
X-PUBLISHED-TTL:PT1H
BEGIN:VTIMEZONE
TZID:Europe/Berlin
BEGIN:DAYLIGHT
TZOFFSETFROM:+0100
TZOFFSETTO:+0200
TZNAME:CEST
DTSTART:20250330T010000
END:DAYLIGHT
BEGIN:STANDARD
TZOFFSETFROM:+0200
TZOFFSETTO:+0100
TZNAME:CET
DTSTART:20251026T010000
END:STANDARD
BEGIN:DAYLIGHT
TZOFFSETFROM:+0100
TZOFFSETTO:+0200
TZNAME:CEST
DTSTART:20260329T010000
END:DAYLIGHT
BEGIN:STANDARD
TZOFFSETFROM:+0200
TZOFFSETTO:+0100
TZNAME:CET
DTSTART:20261025T010000
END:STANDARD
BEGIN:DAYLIGHT
TZOFFSETFROM:+0100
TZOFFSETTO:+0200
TZNAME:CEST
DTSTART:20270328T010000
END:DAYLIGHT
BEGIN:STANDARD
TZOFFSETFROM:+0200
TZOFFSETTO:+0100
TZNAME:CET
DTSTART:20271031T010000
END:STANDARD
END:VTIMEZONE
BEGIN:VEVENT
DTSTART;VALUE=DATE:20260911
DTEND;VALUE=DATE:20260914
DTSTAMP:20260422T115652
CREATED:20260412T085437Z
LAST-MODIFIED:20260412T091901Z
UID:3068-1789084800-1789343999@tauchclub-lage.de
SUMMARY:GDL** Sports Diver (DTSA**) – Praxiswochenende
DESCRIPTION:GDL** Sports Diver (DTSA**) – Praxiswochenende \n Ausbilder: Dirk Maihöfer Ort: Kreidesee Hemmoor
URL:https://tauchclub-lage.de/event/gdl-sports-diver-dtsa-praxiswochenende-6/
LOCATION:Kreidesee Hemmoor\, Cuxhavener Str. 1\, Hemmoor\, 21745\, Germany
CATEGORIES:Kurse
END:VEVENT
BEGIN:VEVENT
DTSTART;VALUE=DATE:20260925
DTEND;VALUE=DATE:20260928
DTSTAMP:20260422T115652
CREATED:20260412T085553Z
LAST-MODIFIED:20260412T091932Z
UID:3071-1790294400-1790553599@tauchclub-lage.de
SUMMARY:GDL** Sports Diver (DTSA**) – Praxiswochenende
DESCRIPTION:GDL** Sports Diver (DTSA**) – Praxiswochenende \n Ausbilder: Dirk Maihöfer Ort: Kreidesee Hemmoor
URL:https://tauchclub-lage.de/event/gdl-sports-diver-dtsa-praxiswochenende-7/
LOCATION:Kreidesee Hemmoor\, Cuxhavener Str. 1\, Hemmoor\, 21745\, Germany
CATEGORIES:Kurse
END:VEVENT
END:VCALENDAR