BEGIN:VCALENDAR
VERSION:2.0
PRODID:-//Tauchclub Lage - ECPv6.15.20//NONSGML v1.0//EN
CALSCALE:GREGORIAN
METHOD:PUBLISH
X-ORIGINAL-URL:https://tauchclub-lage.de
X-WR-CALDESC:Veranstaltungen für Tauchclub Lage
REFRESH-INTERVAL;VALUE=DURATION:PT1H
X-Robots-Tag:noindex
X-PUBLISHED-TTL:PT1H
BEGIN:VTIMEZONE
TZID:Europe/Berlin
BEGIN:DAYLIGHT
TZOFFSETFROM:+0100
TZOFFSETTO:+0200
TZNAME:CEST
DTSTART:20250330T010000
END:DAYLIGHT
BEGIN:STANDARD
TZOFFSETFROM:+0200
TZOFFSETTO:+0100
TZNAME:CET
DTSTART:20251026T010000
END:STANDARD
BEGIN:DAYLIGHT
TZOFFSETFROM:+0100
TZOFFSETTO:+0200
TZNAME:CEST
DTSTART:20260329T010000
END:DAYLIGHT
BEGIN:STANDARD
TZOFFSETFROM:+0200
TZOFFSETTO:+0100
TZNAME:CET
DTSTART:20261025T010000
END:STANDARD
BEGIN:DAYLIGHT
TZOFFSETFROM:+0100
TZOFFSETTO:+0200
TZNAME:CEST
DTSTART:20270328T010000
END:DAYLIGHT
BEGIN:STANDARD
TZOFFSETFROM:+0200
TZOFFSETTO:+0100
TZNAME:CET
DTSTART:20271031T010000
END:STANDARD
END:VTIMEZONE
BEGIN:VEVENT
DTSTART;TZID=Europe/Berlin:20260201T100000
DTEND;TZID=Europe/Berlin:20260201T123000
DTSTAMP:20260422T103428
CREATED:20260105T161259Z
LAST-MODIFIED:20260105T165307Z
UID:2925-1769940000-1769949000@tauchclub-lage.de
SUMMARY:GDL Dive Group Leader - Theorie
DESCRIPTION:GDL Dive Group Leader (AK Gruppenführung) \n Ausbilder: Dirk Maihöfer Ort: Detmold (genaue Adresse folgt)
URL:https://tauchclub-lage.de/event/ak-gruppenfuehrung-theorie/
CATEGORIES:Kurse
END:VEVENT
BEGIN:VEVENT
DTSTART;TZID=Europe/Berlin:20260201T133000
DTEND;TZID=Europe/Berlin:20260201T160000
DTSTAMP:20260422T103428
CREATED:20260105T163251Z
LAST-MODIFIED:20260105T165246Z
UID:2927-1769952600-1769961600@tauchclub-lage.de
SUMMARY:GDL Navigation Diver - Theorie
DESCRIPTION:GDL Navigation Diver (AK Orientierung beim Tauchen) \n Ausbilder: Dirk Maihöfer Ort: Detmold (genaue Adresse folgt)
URL:https://tauchclub-lage.de/event/gdl-navigation-diver-theorie/
CATEGORIES:Kurse
END:VEVENT
BEGIN:VEVENT
DTSTART;TZID=Europe/Berlin:20260205T201500
DTEND;TZID=Europe/Berlin:20260205T213000
DTSTAMP:20260422T103428
CREATED:20260120T063533Z
LAST-MODIFIED:20260120T063533Z
UID:2950-1770322500-1770327000@tauchclub-lage.de
SUMMARY:Training
DESCRIPTION:👤 Trainer: Tobias Strodtmann \n🎯 Trainingsinhalt: Apnoe
URL:https://tauchclub-lage.de/event/training-5/
LOCATION:Städt. Hallenbad Lage\, Breite Straße 34\, Lage\, NRW\, 32791\, Germany
CATEGORIES:Training
END:VEVENT
BEGIN:VEVENT
DTSTART;TZID=Europe/Berlin:20260208T100000
DTEND;TZID=Europe/Berlin:20260208T160000
DTSTAMP:20260422T103428
CREATED:20260105T164319Z
LAST-MODIFIED:20260105T165203Z
UID:2931-1770544800-1770566400@tauchclub-lage.de
SUMMARY:GDL** Advanced Sports Diver - Theorie
DESCRIPTION:GDL**Advanced Sports Diver (DTSA**) Teil 1/3 \n Ausbilder: Dirk Maihöfer\n Termine: 08.02.2026 + 15.02.2026 + 22.02.2026\n Ort: Detmold (genaue Adresse folgt)
URL:https://tauchclub-lage.de/event/gdl-advanced-sports-diver-theorie/
CATEGORIES:Kurse
END:VEVENT
BEGIN:VEVENT
DTSTART;TZID=Europe/Berlin:20260212T201500
DTEND;TZID=Europe/Berlin:20260212T213000
DTSTAMP:20260422T103428
CREATED:20260120T063653Z
LAST-MODIFIED:20260120T063653Z
UID:2952-1770927300-1770931800@tauchclub-lage.de
SUMMARY:Training
DESCRIPTION:👤 Trainer: Michael Arnold \n🎯 Trainingsinhalt: Fische erkennen
URL:https://tauchclub-lage.de/event/training-6/
LOCATION:Städt. Hallenbad Lage\, Breite Straße 34\, Lage\, NRW\, 32791\, Germany
CATEGORIES:Training
END:VEVENT
BEGIN:VEVENT
DTSTART;TZID=Europe/Berlin:20260215T100000
DTEND;TZID=Europe/Berlin:20260215T160000
DTSTAMP:20260422T103428
CREATED:20260105T164943Z
LAST-MODIFIED:20260105T165227Z
UID:2933-1771149600-1771171200@tauchclub-lage.de
SUMMARY:GDL** Advanced Sports Diver - Theorie
DESCRIPTION:GDL**Advanced Sports Diver (DTSA**) Teil 2/3 \n Ausbilder: Dirk Maihöfer\n Termine: 08.02.2026 + 15.02.2026 + 22.02.2026\n Ort: Detmold (genaue Adresse folgt)
URL:https://tauchclub-lage.de/event/gdl-advanced-sports-diver-theorie-2/
CATEGORIES:Kurse
END:VEVENT
BEGIN:VEVENT
DTSTART;TZID=Europe/Berlin:20260219T201500
DTEND;TZID=Europe/Berlin:20260219T213000
DTSTAMP:20260422T103428
CREATED:20260123T084324Z
LAST-MODIFIED:20260123T084324Z
UID:2964-1771532100-1771536600@tauchclub-lage.de
SUMMARY:Training
DESCRIPTION: Trainer: Jens Worrech \n Trainingsinhalt: Apnoe
URL:https://tauchclub-lage.de/event/training-7/
LOCATION:Städt. Hallenbad Lage\, Breite Straße 34\, Lage\, NRW\, 32791\, Germany
CATEGORIES:Training
END:VEVENT
BEGIN:VEVENT
DTSTART;TZID=Europe/Berlin:20260222T100000
DTEND;TZID=Europe/Berlin:20260222T160000
DTSTAMP:20260422T103428
CREATED:20260105T165125Z
LAST-MODIFIED:20260105T165125Z
UID:2935-1771754400-1771776000@tauchclub-lage.de
SUMMARY:GDL** Advanced Sports Diver - Theorie
DESCRIPTION:GDL**Advanced Sports Diver (DTSA**) Teil 3/3 (mit Prüfung) \n Ausbilder: Dirk Maihöfer\n Termine: 08.02.2026 + 15.02.2026 + 22.02.2026\n Ort: Detmold (genaue Adresse folgt)
URL:https://tauchclub-lage.de/event/gdl-advanced-sports-diver-theorie-3/
CATEGORIES:Kurse
END:VEVENT
BEGIN:VEVENT
DTSTART;TZID=Europe/Berlin:20260226T201500
DTEND;TZID=Europe/Berlin:20260226T213000
DTSTAMP:20260422T103428
CREATED:20260123T084457Z
LAST-MODIFIED:20260123T084631Z
UID:2966-1772136900-1772141400@tauchclub-lage.de
SUMMARY:Training
DESCRIPTION: Trainer: Robbin Schindler \n Trainingsinhalt: Koordination/Spiele
URL:https://tauchclub-lage.de/event/training-8/
LOCATION:Städt. Hallenbad Lage\, Breite Straße 34\, Lage\, NRW\, 32791\, Germany
CATEGORIES:Training
END:VEVENT
END:VCALENDAR