BEGIN:VCALENDAR
VERSION:2.0
PRODID:-//Tauchclub Lage - ECPv6.15.20//NONSGML v1.0//EN
CALSCALE:GREGORIAN
METHOD:PUBLISH
X-ORIGINAL-URL:https://tauchclub-lage.de
X-WR-CALDESC:Veranstaltungen für Tauchclub Lage
REFRESH-INTERVAL;VALUE=DURATION:PT1H
X-Robots-Tag:noindex
X-PUBLISHED-TTL:PT1H
BEGIN:VTIMEZONE
TZID:Europe/Berlin
BEGIN:DAYLIGHT
TZOFFSETFROM:+0100
TZOFFSETTO:+0200
TZNAME:CEST
DTSTART:20250330T010000
END:DAYLIGHT
BEGIN:STANDARD
TZOFFSETFROM:+0200
TZOFFSETTO:+0100
TZNAME:CET
DTSTART:20251026T010000
END:STANDARD
BEGIN:DAYLIGHT
TZOFFSETFROM:+0100
TZOFFSETTO:+0200
TZNAME:CEST
DTSTART:20260329T010000
END:DAYLIGHT
BEGIN:STANDARD
TZOFFSETFROM:+0200
TZOFFSETTO:+0100
TZNAME:CET
DTSTART:20261025T010000
END:STANDARD
BEGIN:DAYLIGHT
TZOFFSETFROM:+0100
TZOFFSETTO:+0200
TZNAME:CEST
DTSTART:20270328T010000
END:DAYLIGHT
BEGIN:STANDARD
TZOFFSETFROM:+0200
TZOFFSETTO:+0100
TZNAME:CET
DTSTART:20271031T010000
END:STANDARD
END:VTIMEZONE
BEGIN:VEVENT
DTSTART;TZID=Europe/Berlin:20260108T201500
DTEND;TZID=Europe/Berlin:20260108T213000
DTSTAMP:20260420T213014
CREATED:20260105T153620Z
LAST-MODIFIED:20260105T153620Z
UID:2921-1767903300-1767907800@tauchclub-lage.de
SUMMARY:Training
DESCRIPTION:👤 Trainer: Jens Worrech \n🎯 Trainingsinhalt: Kondition
URL:https://tauchclub-lage.de/event/training/
LOCATION:Städt. Hallenbad Lage\, Breite Straße 34\, Lage\, NRW\, 32791\, Germany
CATEGORIES:Training
END:VEVENT
BEGIN:VEVENT
DTSTART;TZID=Europe/Berlin:20260115T201500
DTEND;TZID=Europe/Berlin:20260115T213000
DTSTAMP:20260420T213014
CREATED:20260120T062928Z
LAST-MODIFIED:20260120T062928Z
UID:2943-1768508100-1768512600@tauchclub-lage.de
SUMMARY:Training
DESCRIPTION:👤 Trainer: Dirk Maihöfer \n🎯 Trainingsinhalt: Partnerübungen
URL:https://tauchclub-lage.de/event/training-2/
LOCATION:Städt. Hallenbad Lage\, Breite Straße 34\, Lage\, NRW\, 32791\, Germany
CATEGORIES:Training
END:VEVENT
BEGIN:VEVENT
DTSTART;TZID=Europe/Berlin:20260122T201500
DTEND;TZID=Europe/Berlin:20260122T213000
DTSTAMP:20260420T213014
CREATED:20260120T063254Z
LAST-MODIFIED:20260120T063254Z
UID:2946-1769112900-1769117400@tauchclub-lage.de
SUMMARY:Training
DESCRIPTION:👤 Trainer: Jens Worrech \n🎯 Trainingsinhalt: Apnoe
URL:https://tauchclub-lage.de/event/training-3/
LOCATION:Städt. Hallenbad Lage\, Breite Straße 34\, Lage\, NRW\, 32791\, Germany
CATEGORIES:Training
END:VEVENT
BEGIN:VEVENT
DTSTART;TZID=Europe/Berlin:20260128T190000
DTEND;TZID=Europe/Berlin:20260128T220000
DTSTAMP:20260420T213014
CREATED:20251213T150521Z
LAST-MODIFIED:20251213T150744Z
UID:2258-1769626800-1769637600@tauchclub-lage.de
SUMMARY:Mitgliederversammlung 📝
DESCRIPTION:Lasst uns gemeinsam auf das Vereinsjahr blicken und wichtige Themen rund um unseren Verein besprechen. Eure Meinungen\, Ideen und Anregungen sind gefragt! \n📅 Datum: [28.01.2026]🕖 Uhrzeit: 19:00 Uhr📍 Ort: Bürgerhaus Lage \nWir freuen uns auf einen konstruktiven Abend und eure zahlreiche Teilnahme! 🤝
URL:https://tauchclub-lage.de/event/mitgliederversammlung-%f0%9f%93%9d/
LOCATION:Bürgerhaus am Clara-Ernst-Platz\, Clara-Ernst-Platz\, Lage\, NRW\, 32791\, Germany
CATEGORIES:Events
END:VEVENT
BEGIN:VEVENT
DTSTART;TZID=Europe/Berlin:20260129T201500
DTEND;TZID=Europe/Berlin:20260129T213000
DTSTAMP:20260420T213014
CREATED:20260120T063424Z
LAST-MODIFIED:20260120T063424Z
UID:2948-1769717700-1769722200@tauchclub-lage.de
SUMMARY:Training
DESCRIPTION:👤 Trainer: Robbin Schindler \n🎯 Trainingsinhalt: Koordination/Spiele
URL:https://tauchclub-lage.de/event/training-4/
LOCATION:Städt. Hallenbad Lage\, Breite Straße 34\, Lage\, NRW\, 32791\, Germany
CATEGORIES:Training
END:VEVENT
END:VCALENDAR