BEGIN:VCALENDAR
VERSION:2.0
PRODID:-//Tauchclub Lage - ECPv6.15.20//NONSGML v1.0//EN
CALSCALE:GREGORIAN
METHOD:PUBLISH
X-WR-CALNAME:Tauchclub Lage
X-ORIGINAL-URL:https://tauchclub-lage.de
X-WR-CALDESC:Veranstaltungen für Tauchclub Lage
REFRESH-INTERVAL;VALUE=DURATION:PT1H
X-Robots-Tag:noindex
X-PUBLISHED-TTL:PT1H
BEGIN:VTIMEZONE
TZID:Europe/Berlin
BEGIN:DAYLIGHT
TZOFFSETFROM:+0100
TZOFFSETTO:+0200
TZNAME:CEST
DTSTART:20240331T010000
END:DAYLIGHT
BEGIN:STANDARD
TZOFFSETFROM:+0200
TZOFFSETTO:+0100
TZNAME:CET
DTSTART:20241027T010000
END:STANDARD
BEGIN:DAYLIGHT
TZOFFSETFROM:+0100
TZOFFSETTO:+0200
TZNAME:CEST
DTSTART:20250330T010000
END:DAYLIGHT
BEGIN:STANDARD
TZOFFSETFROM:+0200
TZOFFSETTO:+0100
TZNAME:CET
DTSTART:20251026T010000
END:STANDARD
BEGIN:DAYLIGHT
TZOFFSETFROM:+0100
TZOFFSETTO:+0200
TZNAME:CEST
DTSTART:20260329T010000
END:DAYLIGHT
BEGIN:STANDARD
TZOFFSETFROM:+0200
TZOFFSETTO:+0100
TZNAME:CET
DTSTART:20261025T010000
END:STANDARD
END:VTIMEZONE
BEGIN:VEVENT
DTSTART;TZID=Europe/Berlin:20251106T201500
DTEND;TZID=Europe/Berlin:20251106T213000
DTSTAMP:20260424T103229
CREATED:20250916T144901Z
LAST-MODIFIED:20250916T145804Z
UID:1998-1762460100-1762464600@tauchclub-lage.de
SUMMARY:Training - Apnoe (Strecke)
DESCRIPTION:Trainer: Robbin Schindler
URL:https://tauchclub-lage.de/event/training-apnoe-strecke-2/
LOCATION:Städt. Hallenbad Lage\, Breite Straße 34\, Lage\, NRW\, 32791\, Germany
CATEGORIES:Training
END:VEVENT
BEGIN:VEVENT
DTSTART;TZID=Europe/Berlin:20251113T201500
DTEND;TZID=Europe/Berlin:20251113T213000
DTSTAMP:20260424T103229
CREATED:20250916T145023Z
LAST-MODIFIED:20250916T145023Z
UID:2000-1763064900-1763069400@tauchclub-lage.de
SUMMARY:Training - DTG - Tarierübungen
DESCRIPTION:Trainer: Tobias Strodtmann
URL:https://tauchclub-lage.de/event/training-dtg-tarieruebungen/
LOCATION:Städt. Hallenbad Lage\, Breite Straße 34\, Lage\, NRW\, 32791\, Germany
CATEGORIES:Training
END:VEVENT
BEGIN:VEVENT
DTSTART;TZID=Europe/Berlin:20251120T201500
DTEND;TZID=Europe/Berlin:20251120T213000
DTSTAMP:20260424T103229
CREATED:20250916T145113Z
LAST-MODIFIED:20250916T145113Z
UID:2002-1763669700-1763674200@tauchclub-lage.de
SUMMARY:Training - Apnoe (Strecke)
DESCRIPTION:Trainer: Michael Arnold
URL:https://tauchclub-lage.de/event/training-apnoe-strecke-3/
LOCATION:Städt. Hallenbad Lage\, Breite Straße 34\, Lage\, NRW\, 32791\, Germany
CATEGORIES:Training
END:VEVENT
BEGIN:VEVENT
DTSTART;VALUE=DATE:20251121
DTEND;VALUE=DATE:20251124
DTSTAMP:20260424T103229
CREATED:20250916T152736Z
LAST-MODIFIED:20250916T152806Z
UID:2015-1763683200-1763942399@tauchclub-lage.de
SUMMARY:❄️ Wintertauchen im Kreidesee Hemmoor ❄️
DESCRIPTION:Lasst uns gemeinsam die Faszination des Wintertauchens erleben!Klare Sicht\, mystische Stimmung und die ganz besondere Atmosphäre unter Wasser machen dieses Wochenende zu einem unvergesslichen Erlebnis. \nBitte beachtet:🧊 Kälteschutz ist erforderlich – Trockentauchanzug oder entsprechender Schutz sind unbedingt notwendig. \n📅 Datum: 21. – 23.11.2025📍 Ort: Hemmoor – Kreidesee \nWir freuen uns auf spannende Tauchgänge\, gemeinsame Erlebnisse und einen besonderen Jahresabschluss unter Wasser! 🤿🌊
URL:https://tauchclub-lage.de/event/%e2%9d%84%ef%b8%8f-wintertauchen-im-kreidesee-hemmoor-%e2%9d%84%ef%b8%8f/
LOCATION:Kreidesee Hemmoor\, Cuxhavener Str. 1\, Hemmoor\, 21745\, Germany
CATEGORIES:Events
END:VEVENT
BEGIN:VEVENT
DTSTART;TZID=Europe/Berlin:20251127T201500
DTEND;TZID=Europe/Berlin:20251127T213000
DTSTAMP:20260424T103229
CREATED:20250916T145223Z
LAST-MODIFIED:20250916T145223Z
UID:2004-1764274500-1764279000@tauchclub-lage.de
SUMMARY:Training - ABC Übungen
DESCRIPTION:Trainer: Jens Worrech
URL:https://tauchclub-lage.de/event/training-abc-uebungen/
LOCATION:Städt. Hallenbad Lage\, Breite Straße 34\, Lage\, NRW\, 32791\, Germany
CATEGORIES:Training
END:VEVENT
END:VCALENDAR