BEGIN:VCALENDAR
VERSION:2.0
PRODID:-//Tauchclub Lage - ECPv6.15.20//NONSGML v1.0//EN
CALSCALE:GREGORIAN
METHOD:PUBLISH
X-ORIGINAL-URL:https://tauchclub-lage.de
X-WR-CALDESC:Veranstaltungen für Tauchclub Lage
REFRESH-INTERVAL;VALUE=DURATION:PT1H
X-Robots-Tag:noindex
X-PUBLISHED-TTL:PT1H
BEGIN:VTIMEZONE
TZID:Europe/Berlin
BEGIN:DAYLIGHT
TZOFFSETFROM:+0100
TZOFFSETTO:+0200
TZNAME:CEST
DTSTART:20240331T010000
END:DAYLIGHT
BEGIN:STANDARD
TZOFFSETFROM:+0200
TZOFFSETTO:+0100
TZNAME:CET
DTSTART:20241027T010000
END:STANDARD
BEGIN:DAYLIGHT
TZOFFSETFROM:+0100
TZOFFSETTO:+0200
TZNAME:CEST
DTSTART:20250330T010000
END:DAYLIGHT
BEGIN:STANDARD
TZOFFSETFROM:+0200
TZOFFSETTO:+0100
TZNAME:CET
DTSTART:20251026T010000
END:STANDARD
BEGIN:DAYLIGHT
TZOFFSETFROM:+0100
TZOFFSETTO:+0200
TZNAME:CEST
DTSTART:20260329T010000
END:DAYLIGHT
BEGIN:STANDARD
TZOFFSETFROM:+0200
TZOFFSETTO:+0100
TZNAME:CET
DTSTART:20261025T010000
END:STANDARD
END:VTIMEZONE
BEGIN:VEVENT
DTSTART;TZID=Europe/Berlin:20251002T201500
DTEND;TZID=Europe/Berlin:20251002T213000
DTSTAMP:20260424T120437
CREATED:20250916T144214Z
LAST-MODIFIED:20250916T144214Z
UID:1987-1759436100-1759440600@tauchclub-lage.de
SUMMARY:Training - Koordination / Spiele
DESCRIPTION:Trainer: Tobias Strodtmann
URL:https://tauchclub-lage.de/event/training-koordination-spiele/
LOCATION:Städt. Hallenbad Lage\, Breite Straße 34\, Lage\, NRW\, 32791\, Germany
CATEGORIES:Training
END:VEVENT
BEGIN:VEVENT
DTSTART;VALUE=DATE:20251004
DTEND;VALUE=DATE:20251012
DTSTAMP:20260424T120437
CREATED:20250916T152126Z
LAST-MODIFIED:20250916T152126Z
UID:2012-1759536000-1760227199@tauchclub-lage.de
SUMMARY:⚓Tauchreise nach Vis
DESCRIPTION:Lasst uns gemeinsam in ein neues Abenteuer starten!\nMit ISSA Diving Center geht es für uns nach Vis\, wo wir nicht nur die Sonne und das Meer genießen\, sondern auch faszinierende Wracks erkunden werden. Bei spannenden Tauchgängen wollen wir gemeinsam abtauchen\, Neues entdecken und unvergessliche Erinnerungen schaffen. \nEinige Highlights sind unter anderem:\n⚓ Wrack der Vassilios T. – ein imposantes griechisches Frachtschiff in traumhafter Tiefe\n⚓ Wrack der Brioni – ein ehemaliges Passagierschiff\, das spannende Einblicke bietet\n⚓ Wrack der Teti – ein gut erhaltenes Handelsschiff\, leicht betauchbar und voller Geschichte \n📅 Datum: 04.10 – 11.10.2025\n📍 Ort: Vis – ISSA Diving Center \nWir freuen uns auf eine unvergessliche Tauchreise mit euch! 🌊🐠
URL:https://tauchclub-lage.de/event/%e2%9a%93tauchreise-nach-vis/
LOCATION:ISSA Diving Center\, Obala Pape Aleksandra III. 29\, Komiža\, 21485\, Croatia (Local Name: Hrvatska)
CATEGORIES:Events
END:VEVENT
BEGIN:VEVENT
DTSTART;TZID=Europe/Berlin:20251009T201500
DTEND;TZID=Europe/Berlin:20251009T213000
DTSTAMP:20260424T120437
CREATED:20250916T144314Z
LAST-MODIFIED:20250916T144314Z
UID:1989-1760040900-1760045400@tauchclub-lage.de
SUMMARY:Training - Partnerübungen / Ausdauer
DESCRIPTION:Trainer: Tobias Strodtmann
URL:https://tauchclub-lage.de/event/training-partneruebungen-ausdauer/
LOCATION:Städt. Hallenbad Lage\, Breite Straße 34\, Lage\, NRW\, 32791\, Germany
CATEGORIES:Training
END:VEVENT
BEGIN:VEVENT
DTSTART;TZID=Europe/Berlin:20251016T201500
DTEND;TZID=Europe/Berlin:20251016T213000
DTSTAMP:20260424T120437
CREATED:20250916T144420Z
LAST-MODIFIED:20250916T144420Z
UID:1991-1760645700-1760650200@tauchclub-lage.de
SUMMARY:Training - Ausdauer
DESCRIPTION:Trainer: Jens Worrech
URL:https://tauchclub-lage.de/event/training-ausdauer-2/
LOCATION:Städt. Hallenbad Lage\, Breite Straße 34\, Lage\, NRW\, 32791\, Germany
CATEGORIES:Training
END:VEVENT
BEGIN:VEVENT
DTSTART;TZID=Europe/Berlin:20251023T201500
DTEND;TZID=Europe/Berlin:20251023T213000
DTSTAMP:20260424T120437
CREATED:20250916T144515Z
LAST-MODIFIED:20250916T144515Z
UID:1993-1761250500-1761255000@tauchclub-lage.de
SUMMARY:Training - Apnoe (Zeit)
DESCRIPTION:Trainer: Dirk Maihöfer
URL:https://tauchclub-lage.de/event/training-apnoe-zeit-2/
LOCATION:Städt. Hallenbad Lage\, Breite Straße 34\, Lage\, NRW\, 32791\, Germany
CATEGORIES:Training
END:VEVENT
BEGIN:VEVENT
DTSTART;TZID=Europe/Berlin:20251030T180000
DTEND;TZID=Europe/Berlin:20251030T200000
DTSTAMP:20260424T120437
CREATED:20250813T103734Z
LAST-MODIFIED:20250815T214518Z
UID:1653-1761847200-1761854400@tauchclub-lage.de
SUMMARY:Informationsveranstaltung Grundtauchschein
DESCRIPTION:Möchtest du die faszinierende Unterwasserwelt entdecken und dabei sicher und gut ausgebildet sein?Dann ist der Grundtauchschein der perfekte Start für dein Tauchabenteuer! \nBei unserer Informationsveranstaltung erfährst du: \n\nWie der Kurs abläuft und welche Inhalte dich erwarten\nWelche Ausrüstung benötigt wird und was wir dir zur Verfügung stellen\nWann und wo die praktischen Übungen stattfinden\nWelche Voraussetzungen es gibt – und wie einfach der Einstieg ist\n\nEgal\, ob du schon immer vom Tauchen geträumt hast oder einfach neugierig bist: Komm vorbei\, stell deine Fragen und lerne uns persönlich kennen. \nWir freuen uns auf dich – und darauf\, gemeinsam die ersten Schritte (und Flossenschläge) in eine neue Welt zu machen! 🐠
URL:https://tauchclub-lage.de/event/informationsveranstaltung-grundtauchschein/
CATEGORIES:Events
END:VEVENT
BEGIN:VEVENT
DTSTART;TZID=Europe/Berlin:20251030T201500
DTEND;TZID=Europe/Berlin:20251030T213000
DTSTAMP:20260424T120437
CREATED:20250916T144745Z
LAST-MODIFIED:20250916T145608Z
UID:1995-1761855300-1761859800@tauchclub-lage.de
SUMMARY:Training - Fische erkennen
DESCRIPTION:Trainer: Michael Arnold
URL:https://tauchclub-lage.de/event/training-fische-erkennen/
LOCATION:Städt. Hallenbad Lage\, Breite Straße 34\, Lage\, NRW\, 32791\, Germany
END:VEVENT
END:VCALENDAR